BEGIN:VCALENDAR
VERSION:2.0
PRODID:-//Hoff-Barthelson Music School - ECPv6.15.20//NONSGML v1.0//EN
CALSCALE:GREGORIAN
METHOD:PUBLISH
X-WR-CALNAME:Hoff-Barthelson Music School
X-ORIGINAL-URL:https://hbms.org
X-WR-CALDESC:Events for Hoff-Barthelson Music School
REFRESH-INTERVAL;VALUE=DURATION:PT1H
X-Robots-Tag:noindex
X-PUBLISHED-TTL:PT1H
BEGIN:VTIMEZONE
TZID:America/New_York
BEGIN:DAYLIGHT
TZOFFSETFROM:-0500
TZOFFSETTO:-0400
TZNAME:EDT
DTSTART:20230312T070000
END:DAYLIGHT
BEGIN:STANDARD
TZOFFSETFROM:-0400
TZOFFSETTO:-0500
TZNAME:EST
DTSTART:20231105T060000
END:STANDARD
BEGIN:DAYLIGHT
TZOFFSETFROM:-0500
TZOFFSETTO:-0400
TZNAME:EDT
DTSTART:20240310T070000
END:DAYLIGHT
BEGIN:STANDARD
TZOFFSETFROM:-0400
TZOFFSETTO:-0500
TZNAME:EST
DTSTART:20241103T060000
END:STANDARD
BEGIN:DAYLIGHT
TZOFFSETFROM:-0500
TZOFFSETTO:-0400
TZNAME:EDT
DTSTART:20250309T070000
END:DAYLIGHT
BEGIN:STANDARD
TZOFFSETFROM:-0400
TZOFFSETTO:-0500
TZNAME:EST
DTSTART:20251102T060000
END:STANDARD
BEGIN:DAYLIGHT
TZOFFSETFROM:-0500
TZOFFSETTO:-0400
TZNAME:EDT
DTSTART:20260308T070000
END:DAYLIGHT
BEGIN:STANDARD
TZOFFSETFROM:-0400
TZOFFSETTO:-0500
TZNAME:EST
DTSTART:20261101T060000
END:STANDARD
BEGIN:DAYLIGHT
TZOFFSETFROM:-0500
TZOFFSETTO:-0400
TZNAME:EDT
DTSTART:20270314T070000
END:DAYLIGHT
BEGIN:STANDARD
TZOFFSETFROM:-0400
TZOFFSETTO:-0500
TZNAME:EST
DTSTART:20271107T060000
END:STANDARD
END:VTIMEZONE
BEGIN:VEVENT
DTSTART;TZID=America/New_York:20260321T190000
DTEND;TZID=America/New_York:20260321T210000
DTSTAMP:20260426T003932
CREATED:20260203T155420Z
LAST-MODIFIED:20260306T200503Z
UID:29919-1774119600-1774126800@hbms.org
SUMMARY:¡Olé! A Salute to Spain
DESCRIPTION:Hoff-Barthelson’s Youth Orchestra Mid-Winter Concert Celebrating 150 years of Manuel de Falla\nDr. Leandro Gazineo\, Director of Orchestral Programs \nJoin us at the Rye Country Day School Performing Arts Center for an inspiring evening of orchestral music featuring the Festival Orchestra under the direction of Leandro Gazineo\, and the Young People’s Symphonette and Chamber Orchestra led by Robert Schwartz. \nAlso featuring two winners of the Second HBMS Concerto Competition\nNicky Vurchio\, piano and Melody Dong\, violin \nPerforming works by Georges Bizet\, Manuel de Falla\, Enrique Granados\, Pablo de Sarasate\,\nas well as J.S. Bach\, W.A. Mozart\, Dmitri Shostakovich\, Antonio Vivaldi\, and others. \nGeneral Admission: $15; HBMS Students: Free of charge \nPurchase tickets here via Eventbrite. \n \nView flyer here.
URL:https://hbms.org/event/youth-orchestras-concert/
LOCATION:Rye Country Day School\, 3 Cedar Street\, Rye\, NY\, 10580\, United States
CATEGORIES:Chamber Orchestra,Festival Orchestra,More Events,Symphonette,Youth Orchestras
ATTACH;FMTTYPE=image/jpeg:https://hbms.org/wp-content/uploads/Festival-Orchestra-3-600x600px.jpg
END:VEVENT
BEGIN:VEVENT
DTSTART;TZID=America/New_York:20251213T190000
DTEND;TZID=America/New_York:20251213T210000
DTSTAMP:20260426T003932
CREATED:20251020T155742Z
LAST-MODIFIED:20251215T143057Z
UID:29507-1765652400-1765659600@hbms.org
SUMMARY:Youth Orchestras Winter Concert
DESCRIPTION:UNITED IN PURPOSE II\nA Celebration of Connection\, Diversity\, and Harmony \nJoin us at the Sommer Center for an inspiring evening of orchestral music featuring the Festival Orchestra under the direction of Leandro Gazineo\, and the Young People’s Symphonette and Chamber Orchestra led by Robert Schwartz. The program also includes a special collaborative performance with the HBMS Port Chester Saturday Orchestra—an inspiring celebration of collaboration\, talent\, and the joy of live music. \nGeneral Admission $15; HBMS Students Free of Charge \nLimited seating- purchase tickets in advance here. \nView flyer.
URL:https://hbms.org/event/youth-orchestras-winter-concert-2/
LOCATION:Iona University : The Sommer Center\, 171 White Plains Road\, Bronxville\, NY\, 10708\, United States
CATEGORIES:Chamber Orchestra,Festival Orchestra,Symphonette,Youth Orchestras
ATTACH;FMTTYPE=image/jpeg:https://hbms.org/wp-content/uploads/Festival-Orchestra-3-600x600px.jpg
END:VEVENT
BEGIN:VEVENT
DTSTART;TZID=America/New_York:20250924T190000
DTEND;TZID=America/New_York:20250924T200000
DTSTAMP:20260426T003932
CREATED:20240801T193935Z
LAST-MODIFIED:20250908T170609Z
UID:18919-1758740400-1758744000@hbms.org
SUMMARY:Young People's Symphonette Drop-in Day
DESCRIPTION:RSVP here. \nBring your instrument\, play along with our enrolled students\, and learn more about the Young People’s Symphonette. For students in grades 2-6. \nThe Orchestra rehearses weekly at this time.
URL:https://hbms.org/event/young-peoples-symphonette-drop-in-day/
LOCATION:Hoff-Barthelson Music School\, 25 School Lane\, Scarsdale\, 10583\, United States
CATEGORIES:Information Meeting,More Events,Open House,Parent Meeting,Symphonette
ATTACH;FMTTYPE=image/jpeg:https://hbms.org/wp-content/uploads/Symphonette-600x600px.jpg
END:VEVENT
BEGIN:VEVENT
DTSTART;TZID=America/New_York:20241215T150000
DTEND;TZID=America/New_York:20241215T163000
DTSTAMP:20260426T003932
CREATED:20240913T202011Z
LAST-MODIFIED:20240913T202011Z
UID:22046-1734274800-1734280200@hbms.org
SUMMARY:Youth Orchestras Winter Concert
DESCRIPTION:UNITED IN PURPOSE \nHoff-Barthelson’s Orchestra Program Winter Concert\nDr. Leandro Gazineo Director of Orchestral Programs \nFeaturing the Young People’s Symphonette and Chamber Orchestra under the direction of Robert Schwartz and the Festival Orchestra under the direction of Leandro Gazineo. \nPerforming works by George Frideric Handel\, Wolfgang Amadeus Mozart\, Joseph Haydn\, Edvard Grieg\, Pyotr Ilyich Tchaikovsky\, Giacomo Puccini\, Johann Strauss\, Jean Sibelius\, Leroy Anderson\, and Camargo Guarnieri. \nSPECIAL PERFORMANCE\nFor the first time in HBMS history\, all three orchestras will unite to perform Sibelius’ Andante Festivo in a spectacular collaborative performance! \nSuggested Donation $20; HBMS Students Free of Charge \nView flyer.
URL:https://hbms.org/event/youth-orchestras-winter-concert/
CATEGORIES:Chamber Orchestra,Featured Event (Homepage),Festival Orchestra,Student Performance,Symphonette,Youth Orchestras
ATTACH;FMTTYPE=image/jpeg:https://hbms.org/wp-content/uploads/Violin-Scroll-Detail-600x600px.jpg
END:VEVENT
BEGIN:VEVENT
DTSTART;TZID=America/New_York:20240505T090000
DTEND;TZID=America/New_York:20240505T150000
DTSTAMP:20260426T003932
CREATED:20230207T221932Z
LAST-MODIFIED:20230207T221932Z
UID:11068-1714899600-1714921200@hbms.org
SUMMARY:Placement Auditions: HBMS Orchestra Program
DESCRIPTION:Hoff-Barthelson Music School invites you to audition for our prestigious Orchestra Program for students in Grades 2-12. Whether you’re a seasoned performer or just starting your musical journey\, there’s a place for everyone in our orchestral family! \nPlacement auditions for the Young People’s Symphonette\, Chamber Orchestra\, and Festival Orchestra will take place on the following dates: \n\nSunday\, May 5: 9:00 am – 3:00 pm\nTuesday\, May 7: 6:00 pm – 10:00 pm\nThursday\, May 9: 6:00 pm – 10:00 pm\nFriday\, May 10: 6:00 pm – 10:00 pm\n\nSign-up here. \nRegistration deadline: Tuesday\, April 30\, 2024. \nAudition requirements: \n\nTwo pieces of your choice that showcase your technical and musical abilities\nScales and Rolls\n\nViolin and Cello: One 3-octave scale of your choosing (2-octaves for those interested in the Symphonette).\nViola\, Bass\, and Harp: One 2-octave scale of your choosing\nWinds and Brass: One 1-octave scale of your choosing\nTimpani: Rolls in crescendo and diminuendo\n\n\nShort sight reading exercise\n\nView flyer here.
URL:https://hbms.org/event/auditions-festival-orchestra/
CATEGORIES:Auditions,Chamber Orchestra,Featured Event (Homepage),Festival Orchestra,Symphonette
ATTACH;FMTTYPE=image/jpeg:https://hbms.org/wp-content/uploads/Orchestra-Anonymous-Crop-600x600px.jpg
END:VEVENT
BEGIN:VEVENT
DTSTART;TZID=America/New_York:20240507T180000
DTEND;TZID=America/New_York:20240507T220000
DTSTAMP:20260426T003932
CREATED:20230207T221932Z
LAST-MODIFIED:20230207T221932Z
UID:12792-1715104800-1715119200@hbms.org
SUMMARY:Placement Auditions: HBMS Orchestra Program
DESCRIPTION:Hoff-Barthelson Music School invites you to audition for our prestigious Orchestra Program for students in Grades 2-12. Whether you’re a seasoned performer or just starting your musical journey\, there’s a place for everyone in our orchestral family! \nPlacement auditions for the Young People’s Symphonette\, Chamber Orchestra\, and Festival Orchestra will take place on the following dates: \n\nSunday\, May 5: 9:00 am – 3:00 pm\nTuesday\, May 7: 6:00 pm – 10:00 pm\nThursday\, May 9: 6:00 pm – 10:00 pm\nFriday\, May 10: 6:00 pm – 10:00 pm\n\nSign-up here. \nRegistration deadline: Tuesday\, April 30\, 2024. \nAudition requirements: \n\nTwo pieces of your choice that showcase your technical and musical abilities\nScales and Rolls\n\nViolin and Cello: One 3-octave scale of your choosing (2-octaves for those interested in the Symphonette).\nViola\, Bass\, and Harp: One 2-octave scale of your choosing\nWinds and Brass: One 1-octave scale of your choosing\nTimpani: Rolls in crescendo and diminuendo\n\n\nShort sight reading exercise\n\nView flyer here.
URL:https://hbms.org/event/auditions-festival-orchestra-2024-05-07/
CATEGORIES:Auditions,Chamber Orchestra,Featured Event (Homepage),Festival Orchestra,Symphonette
ATTACH;FMTTYPE=image/jpeg:https://hbms.org/wp-content/uploads/Orchestra-Anonymous-Crop-600x600px.jpg
END:VEVENT
BEGIN:VEVENT
DTSTART;TZID=America/New_York:20240510T180000
DTEND;TZID=America/New_York:20240510T220000
DTSTAMP:20260426T003932
CREATED:20230207T221932Z
LAST-MODIFIED:20230207T221932Z
UID:12790-1715364000-1715378400@hbms.org
SUMMARY:Placement Auditions: HBMS Orchestra Program
DESCRIPTION:Hoff-Barthelson Music School invites you to audition for our prestigious Orchestra Program for students in Grades 2-12. Whether you’re a seasoned performer or just starting your musical journey\, there’s a place for everyone in our orchestral family! \nPlacement auditions for the Young People’s Symphonette\, Chamber Orchestra\, and Festival Orchestra will take place on the following dates: \n\nSunday\, May 5: 9:00 am – 3:00 pm\nTuesday\, May 7: 6:00 pm – 10:00 pm\nThursday\, May 9: 6:00 pm – 10:00 pm\nFriday\, May 10: 6:00 pm – 10:00 pm\n\nSign-up here. \nRegistration deadline: Tuesday\, April 30\, 2024. \nAudition requirements: \n\nTwo pieces of your choice that showcase your technical and musical abilities\nScales and Rolls\n\nViolin and Cello: One 3-octave scale of your choosing (2-octaves for those interested in the Symphonette).\nViola\, Bass\, and Harp: One 2-octave scale of your choosing\nWinds and Brass: One 1-octave scale of your choosing\nTimpani: Rolls in crescendo and diminuendo\n\n\nShort sight reading exercise\n\nView flyer here.
URL:https://hbms.org/event/auditions-festival-orchestra-2024-05-10/
CATEGORIES:Auditions,Chamber Orchestra,Featured Event (Homepage),Festival Orchestra,Symphonette
ATTACH;FMTTYPE=image/jpeg:https://hbms.org/wp-content/uploads/Orchestra-Anonymous-Crop-600x600px.jpg
END:VEVENT
BEGIN:VEVENT
DTSTART;TZID=America/New_York:20240509T180000
DTEND;TZID=America/New_York:20240509T220000
DTSTAMP:20260426T003932
CREATED:20230207T221932Z
LAST-MODIFIED:20230207T221932Z
UID:12793-1715277600-1715292000@hbms.org
SUMMARY:Placement Auditions: HBMS Orchestra Program
DESCRIPTION:Hoff-Barthelson Music School invites you to audition for our prestigious Orchestra Program for students in Grades 2-12. Whether you’re a seasoned performer or just starting your musical journey\, there’s a place for everyone in our orchestral family! \nPlacement auditions for the Young People’s Symphonette\, Chamber Orchestra\, and Festival Orchestra will take place on the following dates: \n\nSunday\, May 5: 9:00 am – 3:00 pm\nTuesday\, May 7: 6:00 pm – 10:00 pm\nThursday\, May 9: 6:00 pm – 10:00 pm\nFriday\, May 10: 6:00 pm – 10:00 pm\n\nSign-up here. \nRegistration deadline: Tuesday\, April 30\, 2024. \nAudition requirements: \n\nTwo pieces of your choice that showcase your technical and musical abilities\nScales and Rolls\n\nViolin and Cello: One 3-octave scale of your choosing (2-octaves for those interested in the Symphonette).\nViola\, Bass\, and Harp: One 2-octave scale of your choosing\nWinds and Brass: One 1-octave scale of your choosing\nTimpani: Rolls in crescendo and diminuendo\n\n\nShort sight reading exercise\n\nView flyer here.
URL:https://hbms.org/event/auditions-festival-orchestra-2024-05-09/
CATEGORIES:Auditions,Chamber Orchestra,Featured Event (Homepage),Festival Orchestra,Symphonette
ATTACH;FMTTYPE=image/jpeg:https://hbms.org/wp-content/uploads/Orchestra-Anonymous-Crop-600x600px.jpg
END:VEVENT
BEGIN:VEVENT
DTSTART;TZID=America/New_York:20240510T180000
DTEND;TZID=America/New_York:20240510T220000
DTSTAMP:20260426T003932
CREATED:20230207T221932Z
LAST-MODIFIED:20230207T221932Z
UID:12790-1715364000-1715378400@hbms.org
SUMMARY:Placement Auditions: HBMS Orchestra Program
DESCRIPTION:Hoff-Barthelson Music School invites you to audition for our prestigious Orchestra Program for students in Grades 2-12. Whether you’re a seasoned performer or just starting your musical journey\, there’s a place for everyone in our orchestral family! \nPlacement auditions for the Young People’s Symphonette\, Chamber Orchestra\, and Festival Orchestra will take place on the following dates: \n\nSunday\, May 5: 9:00 am – 3:00 pm\nTuesday\, May 7: 6:00 pm – 10:00 pm\nThursday\, May 9: 6:00 pm – 10:00 pm\nFriday\, May 10: 6:00 pm – 10:00 pm\n\nSign-up here. \nRegistration deadline: Tuesday\, April 30\, 2024. \nAudition requirements: \n\nTwo pieces of your choice that showcase your technical and musical abilities\nScales and Rolls\n\nViolin and Cello: One 3-octave scale of your choosing (2-octaves for those interested in the Symphonette).\nViola\, Bass\, and Harp: One 2-octave scale of your choosing\nWinds and Brass: One 1-octave scale of your choosing\nTimpani: Rolls in crescendo and diminuendo\n\n\nShort sight reading exercise\n\nView flyer here.
URL:https://hbms.org/event/auditions-festival-orchestra-2024-05-10/
CATEGORIES:Auditions,Chamber Orchestra,Featured Event (Homepage),Festival Orchestra,Symphonette
ATTACH;FMTTYPE=image/jpeg:https://hbms.org/wp-content/uploads/Orchestra-Anonymous-Crop-600x600px.jpg
END:VEVENT
BEGIN:VEVENT
DTSTART;TZID=America/New_York:20240509T180000
DTEND;TZID=America/New_York:20240509T220000
DTSTAMP:20260426T003932
CREATED:20230207T221932Z
LAST-MODIFIED:20230207T221932Z
UID:12793-1715277600-1715292000@hbms.org
SUMMARY:Placement Auditions: HBMS Orchestra Program
DESCRIPTION:Hoff-Barthelson Music School invites you to audition for our prestigious Orchestra Program for students in Grades 2-12. Whether you’re a seasoned performer or just starting your musical journey\, there’s a place for everyone in our orchestral family! \nPlacement auditions for the Young People’s Symphonette\, Chamber Orchestra\, and Festival Orchestra will take place on the following dates: \n\nSunday\, May 5: 9:00 am – 3:00 pm\nTuesday\, May 7: 6:00 pm – 10:00 pm\nThursday\, May 9: 6:00 pm – 10:00 pm\nFriday\, May 10: 6:00 pm – 10:00 pm\n\nSign-up here. \nRegistration deadline: Tuesday\, April 30\, 2024. \nAudition requirements: \n\nTwo pieces of your choice that showcase your technical and musical abilities\nScales and Rolls\n\nViolin and Cello: One 3-octave scale of your choosing (2-octaves for those interested in the Symphonette).\nViola\, Bass\, and Harp: One 2-octave scale of your choosing\nWinds and Brass: One 1-octave scale of your choosing\nTimpani: Rolls in crescendo and diminuendo\n\n\nShort sight reading exercise\n\nView flyer here.
URL:https://hbms.org/event/auditions-festival-orchestra-2024-05-09/
CATEGORIES:Auditions,Chamber Orchestra,Featured Event (Homepage),Festival Orchestra,Symphonette
ATTACH;FMTTYPE=image/jpeg:https://hbms.org/wp-content/uploads/Orchestra-Anonymous-Crop-600x600px.jpg
END:VEVENT
BEGIN:VEVENT
DTSTART;TZID=America/New_York:20240505T090000
DTEND;TZID=America/New_York:20240505T150000
DTSTAMP:20260426T003932
CREATED:20230207T221932Z
LAST-MODIFIED:20230207T221932Z
UID:11068-1714899600-1714921200@hbms.org
SUMMARY:Placement Auditions: HBMS Orchestra Program
DESCRIPTION:Hoff-Barthelson Music School invites you to audition for our prestigious Orchestra Program for students in Grades 2-12. Whether you’re a seasoned performer or just starting your musical journey\, there’s a place for everyone in our orchestral family! \nPlacement auditions for the Young People’s Symphonette\, Chamber Orchestra\, and Festival Orchestra will take place on the following dates: \n\nSunday\, May 5: 9:00 am – 3:00 pm\nTuesday\, May 7: 6:00 pm – 10:00 pm\nThursday\, May 9: 6:00 pm – 10:00 pm\nFriday\, May 10: 6:00 pm – 10:00 pm\n\nSign-up here. \nRegistration deadline: Tuesday\, April 30\, 2024. \nAudition requirements: \n\nTwo pieces of your choice that showcase your technical and musical abilities\nScales and Rolls\n\nViolin and Cello: One 3-octave scale of your choosing (2-octaves for those interested in the Symphonette).\nViola\, Bass\, and Harp: One 2-octave scale of your choosing\nWinds and Brass: One 1-octave scale of your choosing\nTimpani: Rolls in crescendo and diminuendo\n\n\nShort sight reading exercise\n\nView flyer here.
URL:https://hbms.org/event/auditions-festival-orchestra/
CATEGORIES:Auditions,Chamber Orchestra,Featured Event (Homepage),Festival Orchestra,Symphonette
ATTACH;FMTTYPE=image/jpeg:https://hbms.org/wp-content/uploads/Orchestra-Anonymous-Crop-600x600px.jpg
END:VEVENT
BEGIN:VEVENT
DTSTART;TZID=America/New_York:20240507T180000
DTEND;TZID=America/New_York:20240507T220000
DTSTAMP:20260426T003932
CREATED:20230207T221932Z
LAST-MODIFIED:20230207T221932Z
UID:12792-1715104800-1715119200@hbms.org
SUMMARY:Placement Auditions: HBMS Orchestra Program
DESCRIPTION:Hoff-Barthelson Music School invites you to audition for our prestigious Orchestra Program for students in Grades 2-12. Whether you’re a seasoned performer or just starting your musical journey\, there’s a place for everyone in our orchestral family! \nPlacement auditions for the Young People’s Symphonette\, Chamber Orchestra\, and Festival Orchestra will take place on the following dates: \n\nSunday\, May 5: 9:00 am – 3:00 pm\nTuesday\, May 7: 6:00 pm – 10:00 pm\nThursday\, May 9: 6:00 pm – 10:00 pm\nFriday\, May 10: 6:00 pm – 10:00 pm\n\nSign-up here. \nRegistration deadline: Tuesday\, April 30\, 2024. \nAudition requirements: \n\nTwo pieces of your choice that showcase your technical and musical abilities\nScales and Rolls\n\nViolin and Cello: One 3-octave scale of your choosing (2-octaves for those interested in the Symphonette).\nViola\, Bass\, and Harp: One 2-octave scale of your choosing\nWinds and Brass: One 1-octave scale of your choosing\nTimpani: Rolls in crescendo and diminuendo\n\n\nShort sight reading exercise\n\nView flyer here.
URL:https://hbms.org/event/auditions-festival-orchestra-2024-05-07/
CATEGORIES:Auditions,Chamber Orchestra,Featured Event (Homepage),Festival Orchestra,Symphonette
ATTACH;FMTTYPE=image/jpeg:https://hbms.org/wp-content/uploads/Orchestra-Anonymous-Crop-600x600px.jpg
END:VEVENT
BEGIN:VEVENT
DTSTART;TZID=America/New_York:20240510T180000
DTEND;TZID=America/New_York:20240510T220000
DTSTAMP:20260426T003932
CREATED:20230207T221932Z
LAST-MODIFIED:20230207T221932Z
UID:12790-1715364000-1715378400@hbms.org
SUMMARY:Placement Auditions: HBMS Orchestra Program
DESCRIPTION:Hoff-Barthelson Music School invites you to audition for our prestigious Orchestra Program for students in Grades 2-12. Whether you’re a seasoned performer or just starting your musical journey\, there’s a place for everyone in our orchestral family! \nPlacement auditions for the Young People’s Symphonette\, Chamber Orchestra\, and Festival Orchestra will take place on the following dates: \n\nSunday\, May 5: 9:00 am – 3:00 pm\nTuesday\, May 7: 6:00 pm – 10:00 pm\nThursday\, May 9: 6:00 pm – 10:00 pm\nFriday\, May 10: 6:00 pm – 10:00 pm\n\nSign-up here. \nRegistration deadline: Tuesday\, April 30\, 2024. \nAudition requirements: \n\nTwo pieces of your choice that showcase your technical and musical abilities\nScales and Rolls\n\nViolin and Cello: One 3-octave scale of your choosing (2-octaves for those interested in the Symphonette).\nViola\, Bass\, and Harp: One 2-octave scale of your choosing\nWinds and Brass: One 1-octave scale of your choosing\nTimpani: Rolls in crescendo and diminuendo\n\n\nShort sight reading exercise\n\nView flyer here.
URL:https://hbms.org/event/auditions-festival-orchestra-2024-05-10/
CATEGORIES:Auditions,Chamber Orchestra,Featured Event (Homepage),Festival Orchestra,Symphonette
ATTACH;FMTTYPE=image/jpeg:https://hbms.org/wp-content/uploads/Orchestra-Anonymous-Crop-600x600px.jpg
END:VEVENT
BEGIN:VEVENT
DTSTART;TZID=America/New_York:20240509T180000
DTEND;TZID=America/New_York:20240509T220000
DTSTAMP:20260426T003932
CREATED:20230207T221932Z
LAST-MODIFIED:20230207T221932Z
UID:12793-1715277600-1715292000@hbms.org
SUMMARY:Placement Auditions: HBMS Orchestra Program
DESCRIPTION:Hoff-Barthelson Music School invites you to audition for our prestigious Orchestra Program for students in Grades 2-12. Whether you’re a seasoned performer or just starting your musical journey\, there’s a place for everyone in our orchestral family! \nPlacement auditions for the Young People’s Symphonette\, Chamber Orchestra\, and Festival Orchestra will take place on the following dates: \n\nSunday\, May 5: 9:00 am – 3:00 pm\nTuesday\, May 7: 6:00 pm – 10:00 pm\nThursday\, May 9: 6:00 pm – 10:00 pm\nFriday\, May 10: 6:00 pm – 10:00 pm\n\nSign-up here. \nRegistration deadline: Tuesday\, April 30\, 2024. \nAudition requirements: \n\nTwo pieces of your choice that showcase your technical and musical abilities\nScales and Rolls\n\nViolin and Cello: One 3-octave scale of your choosing (2-octaves for those interested in the Symphonette).\nViola\, Bass\, and Harp: One 2-octave scale of your choosing\nWinds and Brass: One 1-octave scale of your choosing\nTimpani: Rolls in crescendo and diminuendo\n\n\nShort sight reading exercise\n\nView flyer here.
URL:https://hbms.org/event/auditions-festival-orchestra-2024-05-09/
CATEGORIES:Auditions,Chamber Orchestra,Featured Event (Homepage),Festival Orchestra,Symphonette
ATTACH;FMTTYPE=image/jpeg:https://hbms.org/wp-content/uploads/Orchestra-Anonymous-Crop-600x600px.jpg
END:VEVENT
BEGIN:VEVENT
DTSTART;TZID=America/New_York:20240505T090000
DTEND;TZID=America/New_York:20240505T150000
DTSTAMP:20260426T003932
CREATED:20230207T221932Z
LAST-MODIFIED:20230207T221932Z
UID:11068-1714899600-1714921200@hbms.org
SUMMARY:Placement Auditions: HBMS Orchestra Program
DESCRIPTION:Hoff-Barthelson Music School invites you to audition for our prestigious Orchestra Program for students in Grades 2-12. Whether you’re a seasoned performer or just starting your musical journey\, there’s a place for everyone in our orchestral family! \nPlacement auditions for the Young People’s Symphonette\, Chamber Orchestra\, and Festival Orchestra will take place on the following dates: \n\nSunday\, May 5: 9:00 am – 3:00 pm\nTuesday\, May 7: 6:00 pm – 10:00 pm\nThursday\, May 9: 6:00 pm – 10:00 pm\nFriday\, May 10: 6:00 pm – 10:00 pm\n\nSign-up here. \nRegistration deadline: Tuesday\, April 30\, 2024. \nAudition requirements: \n\nTwo pieces of your choice that showcase your technical and musical abilities\nScales and Rolls\n\nViolin and Cello: One 3-octave scale of your choosing (2-octaves for those interested in the Symphonette).\nViola\, Bass\, and Harp: One 2-octave scale of your choosing\nWinds and Brass: One 1-octave scale of your choosing\nTimpani: Rolls in crescendo and diminuendo\n\n\nShort sight reading exercise\n\nView flyer here.
URL:https://hbms.org/event/auditions-festival-orchestra/
CATEGORIES:Auditions,Chamber Orchestra,Featured Event (Homepage),Festival Orchestra,Symphonette
ATTACH;FMTTYPE=image/jpeg:https://hbms.org/wp-content/uploads/Orchestra-Anonymous-Crop-600x600px.jpg
END:VEVENT
BEGIN:VEVENT
DTSTART;TZID=America/New_York:20240507T180000
DTEND;TZID=America/New_York:20240507T220000
DTSTAMP:20260426T003932
CREATED:20230207T221932Z
LAST-MODIFIED:20230207T221932Z
UID:12792-1715104800-1715119200@hbms.org
SUMMARY:Placement Auditions: HBMS Orchestra Program
DESCRIPTION:Hoff-Barthelson Music School invites you to audition for our prestigious Orchestra Program for students in Grades 2-12. Whether you’re a seasoned performer or just starting your musical journey\, there’s a place for everyone in our orchestral family! \nPlacement auditions for the Young People’s Symphonette\, Chamber Orchestra\, and Festival Orchestra will take place on the following dates: \n\nSunday\, May 5: 9:00 am – 3:00 pm\nTuesday\, May 7: 6:00 pm – 10:00 pm\nThursday\, May 9: 6:00 pm – 10:00 pm\nFriday\, May 10: 6:00 pm – 10:00 pm\n\nSign-up here. \nRegistration deadline: Tuesday\, April 30\, 2024. \nAudition requirements: \n\nTwo pieces of your choice that showcase your technical and musical abilities\nScales and Rolls\n\nViolin and Cello: One 3-octave scale of your choosing (2-octaves for those interested in the Symphonette).\nViola\, Bass\, and Harp: One 2-octave scale of your choosing\nWinds and Brass: One 1-octave scale of your choosing\nTimpani: Rolls in crescendo and diminuendo\n\n\nShort sight reading exercise\n\nView flyer here.
URL:https://hbms.org/event/auditions-festival-orchestra-2024-05-07/
CATEGORIES:Auditions,Chamber Orchestra,Featured Event (Homepage),Festival Orchestra,Symphonette
ATTACH;FMTTYPE=image/jpeg:https://hbms.org/wp-content/uploads/Orchestra-Anonymous-Crop-600x600px.jpg
END:VEVENT
BEGIN:VEVENT
DTSTART;TZID=America/New_York:20240505T090000
DTEND;TZID=America/New_York:20240505T150000
DTSTAMP:20260426T003932
CREATED:20230207T221932Z
LAST-MODIFIED:20230207T221932Z
UID:11068-1714899600-1714921200@hbms.org
SUMMARY:Placement Auditions: HBMS Orchestra Program
DESCRIPTION:Hoff-Barthelson Music School invites you to audition for our prestigious Orchestra Program for students in Grades 2-12. Whether you’re a seasoned performer or just starting your musical journey\, there’s a place for everyone in our orchestral family! \nPlacement auditions for the Young People’s Symphonette\, Chamber Orchestra\, and Festival Orchestra will take place on the following dates: \n\nSunday\, May 5: 9:00 am – 3:00 pm\nTuesday\, May 7: 6:00 pm – 10:00 pm\nThursday\, May 9: 6:00 pm – 10:00 pm\nFriday\, May 10: 6:00 pm – 10:00 pm\n\nSign-up here. \nRegistration deadline: Tuesday\, April 30\, 2024. \nAudition requirements: \n\nTwo pieces of your choice that showcase your technical and musical abilities\nScales and Rolls\n\nViolin and Cello: One 3-octave scale of your choosing (2-octaves for those interested in the Symphonette).\nViola\, Bass\, and Harp: One 2-octave scale of your choosing\nWinds and Brass: One 1-octave scale of your choosing\nTimpani: Rolls in crescendo and diminuendo\n\n\nShort sight reading exercise\n\nView flyer here.
URL:https://hbms.org/event/auditions-festival-orchestra/
CATEGORIES:Auditions,Chamber Orchestra,Featured Event (Homepage),Festival Orchestra,Symphonette
ATTACH;FMTTYPE=image/jpeg:https://hbms.org/wp-content/uploads/Orchestra-Anonymous-Crop-600x600px.jpg
END:VEVENT
END:VCALENDAR