BEGIN:VCALENDAR
VERSION:2.0
PRODID:-//Hoff-Barthelson Music School - ECPv6.15.20//NONSGML v1.0//EN
CALSCALE:GREGORIAN
METHOD:PUBLISH
X-ORIGINAL-URL:https://hbms.org
X-WR-CALDESC:Events for Hoff-Barthelson Music School
REFRESH-INTERVAL;VALUE=DURATION:PT1H
X-Robots-Tag:noindex
X-PUBLISHED-TTL:PT1H
BEGIN:VTIMEZONE
TZID:America/New_York
BEGIN:DAYLIGHT
TZOFFSETFROM:-0500
TZOFFSETTO:-0400
TZNAME:EDT
DTSTART:20250309T070000
END:DAYLIGHT
BEGIN:STANDARD
TZOFFSETFROM:-0400
TZOFFSETTO:-0500
TZNAME:EST
DTSTART:20251102T060000
END:STANDARD
BEGIN:DAYLIGHT
TZOFFSETFROM:-0500
TZOFFSETTO:-0400
TZNAME:EDT
DTSTART:20260308T070000
END:DAYLIGHT
BEGIN:STANDARD
TZOFFSETFROM:-0400
TZOFFSETTO:-0500
TZNAME:EST
DTSTART:20261101T060000
END:STANDARD
BEGIN:DAYLIGHT
TZOFFSETFROM:-0500
TZOFFSETTO:-0400
TZNAME:EDT
DTSTART:20270314T070000
END:DAYLIGHT
BEGIN:STANDARD
TZOFFSETFROM:-0400
TZOFFSETTO:-0500
TZNAME:EST
DTSTART:20271107T060000
END:STANDARD
END:VTIMEZONE
BEGIN:VEVENT
DTSTART;TZID=America/New_York:20260501T183000
DTEND;TZID=America/New_York:20260501T193000
DTSTAMP:20260424T152902
CREATED:20260320T184904Z
LAST-MODIFIED:20260423T160720Z
UID:30153-1777660200-1777663800@hbms.org
SUMMARY:Keyboard Masters: A Celebration of Solo Piano Music
DESCRIPTION:Part of Soundscapes: Faculty-Curated Performances at HBMS\, this program showcases a rich spectrum of solo piano repertoire\, highlighting works by master composers across periods and styles. Performed by HBMS piano students of all ages\, the recital celebrates both technical artistry and expressive individuality at the keyboard. \nCoordinator: Dr. Joan Forsyth
URL:https://hbms.org/event/keyboard-masters/
LOCATION:Hoff-Barthelson Music School\, 25 School Lane\, Scarsdale\, 10583\, United States
CATEGORIES:More Events,Student Performance
ATTACH;FMTTYPE=image/png:https://hbms.org/wp-content/uploads/Soundscapes-of-Spring-2026-600x600px.png
END:VEVENT
END:VCALENDAR