BEGIN:VCALENDAR
VERSION:2.0
PRODID:-//Hoff-Barthelson Music School - ECPv6.15.20//NONSGML v1.0//EN
CALSCALE:GREGORIAN
METHOD:PUBLISH
X-ORIGINAL-URL:https://hbms.org
X-WR-CALDESC:Events for Hoff-Barthelson Music School
REFRESH-INTERVAL;VALUE=DURATION:PT1H
X-Robots-Tag:noindex
X-PUBLISHED-TTL:PT1H
BEGIN:VTIMEZONE
TZID:America/New_York
BEGIN:DAYLIGHT
TZOFFSETFROM:-0500
TZOFFSETTO:-0400
TZNAME:EDT
DTSTART:20230312T070000
END:DAYLIGHT
BEGIN:STANDARD
TZOFFSETFROM:-0400
TZOFFSETTO:-0500
TZNAME:EST
DTSTART:20231105T060000
END:STANDARD
BEGIN:DAYLIGHT
TZOFFSETFROM:-0500
TZOFFSETTO:-0400
TZNAME:EDT
DTSTART:20240310T070000
END:DAYLIGHT
BEGIN:STANDARD
TZOFFSETFROM:-0400
TZOFFSETTO:-0500
TZNAME:EST
DTSTART:20241103T060000
END:STANDARD
BEGIN:DAYLIGHT
TZOFFSETFROM:-0500
TZOFFSETTO:-0400
TZNAME:EDT
DTSTART:20250309T070000
END:DAYLIGHT
BEGIN:STANDARD
TZOFFSETFROM:-0400
TZOFFSETTO:-0500
TZNAME:EST
DTSTART:20251102T060000
END:STANDARD
BEGIN:DAYLIGHT
TZOFFSETFROM:-0500
TZOFFSETTO:-0400
TZNAME:EDT
DTSTART:20260308T070000
END:DAYLIGHT
BEGIN:STANDARD
TZOFFSETFROM:-0400
TZOFFSETTO:-0500
TZNAME:EST
DTSTART:20261101T060000
END:STANDARD
BEGIN:DAYLIGHT
TZOFFSETFROM:-0500
TZOFFSETTO:-0400
TZNAME:EDT
DTSTART:20270314T070000
END:DAYLIGHT
BEGIN:STANDARD
TZOFFSETFROM:-0400
TZOFFSETTO:-0500
TZNAME:EST
DTSTART:20271107T060000
END:STANDARD
END:VTIMEZONE
BEGIN:VEVENT
DTSTART;VALUE=DATE:20260330
DTEND;VALUE=DATE:20260406
DTSTAMP:20260424T235433
CREATED:20240613T173050Z
LAST-MODIFIED:20250908T170303Z
UID:14784-1774828800-1775433599@hbms.org
SUMMARY:Spring Recess
DESCRIPTION:Spring Recess – The School is closed for regularly scheduled lessons and classes.
URL:https://hbms.org/event/spring-recess/
CATEGORIES:School Holidays
ATTACH;FMTTYPE=image/jpeg:https://hbms.org/wp-content/uploads/Magnolia-Spring-Recess-Calendar-Listing.jpg
END:VEVENT
BEGIN:VEVENT
DTSTART;VALUE=DATE:20260216
DTEND;VALUE=DATE:20260223
DTSTAMP:20260424T235433
CREATED:20240613T172933Z
LAST-MODIFIED:20250908T170321Z
UID:14782-1771200000-1771804799@hbms.org
SUMMARY:February Recess
DESCRIPTION:February Recess – The School is closed for regularly scheduled lessons and classes.
URL:https://hbms.org/event/february-recess-2/
CATEGORIES:School Holidays
ATTACH;FMTTYPE=image/jpeg:https://hbms.org/wp-content/uploads/Snowman-February-Recess-Calendar.jpg
END:VEVENT
BEGIN:VEVENT
DTSTART;VALUE=DATE:20260119
DTEND;VALUE=DATE:20260120
DTSTAMP:20260424T235433
CREATED:20240613T172648Z
LAST-MODIFIED:20250908T170331Z
UID:14776-1768780800-1768867199@hbms.org
SUMMARY:Martin Luther King\, Jr. Day
DESCRIPTION:Martin King Luther\, Jr. Day – The School is closed for regularly scheduled lessons and classes.
URL:https://hbms.org/event/martin-luther-king-jr-day/
CATEGORIES:School Holidays
ATTACH;FMTTYPE=image/jpeg:https://hbms.org/wp-content/uploads/Martin-Luther-King-Jr-Calendar-Listing.jpg
END:VEVENT
BEGIN:VEVENT
DTSTART;VALUE=DATE:20251223
DTEND;VALUE=DATE:20260105
DTSTAMP:20260424T235433
CREATED:20240613T172510Z
LAST-MODIFIED:20250908T170337Z
UID:14773-1766448000-1767571199@hbms.org
SUMMARY:Winter Recess
DESCRIPTION:Winter Recess – The School is closed for regularly scheduled lessons and classes.
URL:https://hbms.org/event/winter-recess-2/
CATEGORIES:School Holidays
ATTACH;FMTTYPE=image/jpeg:https://hbms.org/wp-content/uploads/Winter-Recess-Calendar-Listing.jpg
END:VEVENT
BEGIN:VEVENT
DTSTART;VALUE=DATE:20251126
DTEND;VALUE=DATE:20251201
DTSTAMP:20260424T235433
CREATED:20240613T172239Z
LAST-MODIFIED:20251124T012303Z
UID:14767-1764115200-1764547199@hbms.org
SUMMARY:Thanksgiving Recess
DESCRIPTION:Thanksgiving Recess – The School is closed for regularly scheduled lessons and classes.
URL:https://hbms.org/event/thanksgiving-recess-2/
CATEGORIES:More Events,School Holidays
ATTACH;FMTTYPE=image/jpeg:https://hbms.org/wp-content/uploads/Thanksgiving-2.jpg
END:VEVENT
BEGIN:VEVENT
DTSTART;VALUE=DATE:20251020
DTEND;VALUE=DATE:20251021
DTSTAMP:20260424T235433
CREATED:20240613T171901Z
LAST-MODIFIED:20250908T170449Z
UID:14761-1760918400-1761004799@hbms.org
SUMMARY:Diwali
DESCRIPTION:Diwali – The School is closed for regularly scheduled lessons and classes.
URL:https://hbms.org/event/diwali/
CATEGORIES:School Holidays
ATTACH;FMTTYPE=image/jpeg:https://hbms.org/wp-content/uploads/Diwali-Calendar-Listing.jpg
END:VEVENT
BEGIN:VEVENT
DTSTART;VALUE=DATE:20251013
DTEND;VALUE=DATE:20251014
DTSTAMP:20260424T235433
CREATED:20240613T171753Z
LAST-MODIFIED:20250908T170455Z
UID:14759-1760313600-1760399999@hbms.org
SUMMARY:Columbus Day / Indigenous Peoples' Day
DESCRIPTION:Columbus Day / Indigenous Peoples’ Day – The School is closed for regularly scheduled lessons and classes.
URL:https://hbms.org/event/columbus-day-indigenous-peoples-day/
CATEGORIES:School Holidays
ATTACH;FMTTYPE=image/jpeg:https://hbms.org/wp-content/uploads/October-Calendar.jpg
END:VEVENT
BEGIN:VEVENT
DTSTART;VALUE=DATE:20251002
DTEND;VALUE=DATE:20251003
DTSTAMP:20260424T235433
CREATED:20240613T171622Z
LAST-MODIFIED:20250908T170521Z
UID:14757-1759363200-1759449599@hbms.org
SUMMARY:Yom Kippur
DESCRIPTION:Yom Kippur – The School is closed for regularly scheduled lessons and classes.
URL:https://hbms.org/event/yom-kippur-2/
CATEGORIES:School Holidays
ATTACH;FMTTYPE=image/png:https://hbms.org/wp-content/uploads/Yom-Kippur.png
END:VEVENT
BEGIN:VEVENT
DTSTART;VALUE=DATE:20250923
DTEND;VALUE=DATE:20250924
DTSTAMP:20260424T235433
CREATED:20240613T171502Z
LAST-MODIFIED:20250923T214732Z
UID:14755-1758585600-1758671999@hbms.org
SUMMARY:Rosh Hashanah
DESCRIPTION:Rosh Hashanah – The School is closed for regularly scheduled lessons and classes.
URL:https://hbms.org/event/rosh-hashanah-2/
LOCATION:Hoff-Barthelson Music School\, 25 School Lane\, Scarsdale\, 10583\, United States
CATEGORIES:More Events,School Holidays
ATTACH;FMTTYPE=image/png:https://hbms.org/wp-content/uploads/Rosh-Hashannah.png
END:VEVENT
BEGIN:VEVENT
DTSTART;TZID=America/New_York:20250901T080000
DTEND;TZID=America/New_York:20250901T170000
DTSTAMP:20260424T235433
CREATED:20250716T143547Z
LAST-MODIFIED:20250908T170805Z
UID:27302-1756713600-1756746000@hbms.org
SUMMARY:Labor Day
DESCRIPTION:The School is closed in observance of Labor Day.
URL:https://hbms.org/event/labor-day/
LOCATION:Hoff-Barthelson Music School\, 25 School Lane\, Scarsdale\, 10583\, United States
CATEGORIES:School Holidays
ATTACH;FMTTYPE=image/png:https://hbms.org/wp-content/uploads/Labor-Day.png
END:VEVENT
BEGIN:VEVENT
DTSTART;VALUE=DATE:20250704
DTEND;VALUE=DATE:20250705
DTSTAMP:20260424T235433
CREATED:20250716T143348Z
LAST-MODIFIED:20250908T170810Z
UID:27300-1751587200-1751673599@hbms.org
SUMMARY:Independence Day
DESCRIPTION:The School is closed for regularly scheduled lessons and classes in observance of Independence Day.
URL:https://hbms.org/event/independence-day-2/
LOCATION:Hoff-Barthelson Music School\, 25 School Lane\, Scarsdale\, 10583\, United States
CATEGORIES:School Holidays
ATTACH;FMTTYPE=image/jpeg:https://hbms.org/wp-content/uploads/July-4-Image-600x600px.jpg
END:VEVENT
BEGIN:VEVENT
DTSTART;VALUE=DATE:20250129
DTEND;VALUE=DATE:20250130
DTSTAMP:20260424T235433
CREATED:20240613T172807Z
LAST-MODIFIED:20240613T172807Z
UID:14780-1738108800-1738195199@hbms.org
SUMMARY:Lunar New Year
DESCRIPTION:Lunar New Year – The School is closed for regularly scheduled lessons and classes.
URL:https://hbms.org/event/lunar-new-year/
CATEGORIES:School Holidays
ATTACH;FMTTYPE=image/jpeg:https://hbms.org/wp-content/uploads/HBMSevents.jpg
END:VEVENT
BEGIN:VEVENT
DTSTART;VALUE=DATE:20241111
DTEND;VALUE=DATE:20241112
DTSTAMP:20260424T235433
CREATED:20240613T172059Z
LAST-MODIFIED:20240613T172059Z
UID:14765-1731283200-1731369599@hbms.org
SUMMARY:Veterans Day
DESCRIPTION:Veterans Day – The School is closed for regularly scheduled lessons and classes.
URL:https://hbms.org/event/veterans-day/
CATEGORIES:School Holidays
ATTACH;FMTTYPE=image/jpeg:https://hbms.org/wp-content/uploads/HBMSevents.jpg
END:VEVENT
BEGIN:VEVENT
DTSTART;VALUE=DATE:20241105
DTEND;VALUE=DATE:20241106
DTSTAMP:20260424T235433
CREATED:20240613T171959Z
LAST-MODIFIED:20240613T171959Z
UID:14763-1730764800-1730851199@hbms.org
SUMMARY:Election Day
DESCRIPTION:Election Day – The School is closed for regularly scheduled lessons and classes.
URL:https://hbms.org/event/election-day/
CATEGORIES:School Holidays
ATTACH;FMTTYPE=image/jpeg:https://hbms.org/wp-content/uploads/HBMSevents.jpg
END:VEVENT
BEGIN:VEVENT
DTSTART;VALUE=DATE:20240902
DTEND;VALUE=DATE:20240903
DTSTAMP:20260424T235433
CREATED:20240613T171339Z
LAST-MODIFIED:20240613T171339Z
UID:14753-1725235200-1725321599@hbms.org
SUMMARY:Labor Day
DESCRIPTION:Labor Day – The School is closed for regularly scheduled lessons and classes.
URL:https://hbms.org/event/labor-day-2/
CATEGORIES:School Holidays
ATTACH;FMTTYPE=image/jpeg:https://hbms.org/wp-content/uploads/HBMSevents.jpg
END:VEVENT
BEGIN:VEVENT
DTSTART;VALUE=DATE:20240704
DTEND;VALUE=DATE:20240705
DTSTAMP:20260424T235433
CREATED:20240613T171211Z
LAST-MODIFIED:20240613T171211Z
UID:14750-1720051200-1720137599@hbms.org
SUMMARY:Independence Day
DESCRIPTION:Independence Day – The School is closed for regularly scheduled lessons and classes\, and the Summer Arts Program is not in session.
URL:https://hbms.org/event/independence-day/
CATEGORIES:Featured Event (Homepage),School Holidays
ATTACH;FMTTYPE=image/jpeg:https://hbms.org/wp-content/uploads/July-4-Image-600x600px.jpg
END:VEVENT
END:VCALENDAR