BEGIN:VCALENDAR
VERSION:2.0
PRODID:-//Hoff-Barthelson Music School - ECPv6.15.20//NONSGML v1.0//EN
CALSCALE:GREGORIAN
METHOD:PUBLISH
X-ORIGINAL-URL:https://hbms.org
X-WR-CALDESC:Events for Hoff-Barthelson Music School
REFRESH-INTERVAL;VALUE=DURATION:PT1H
X-Robots-Tag:noindex
X-PUBLISHED-TTL:PT1H
BEGIN:VTIMEZONE
TZID:America/New_York
BEGIN:DAYLIGHT
TZOFFSETFROM:-0500
TZOFFSETTO:-0400
TZNAME:EDT
DTSTART:20240310T070000
END:DAYLIGHT
BEGIN:STANDARD
TZOFFSETFROM:-0400
TZOFFSETTO:-0500
TZNAME:EST
DTSTART:20241103T060000
END:STANDARD
BEGIN:DAYLIGHT
TZOFFSETFROM:-0500
TZOFFSETTO:-0400
TZNAME:EDT
DTSTART:20250309T070000
END:DAYLIGHT
BEGIN:STANDARD
TZOFFSETFROM:-0400
TZOFFSETTO:-0500
TZNAME:EST
DTSTART:20251102T060000
END:STANDARD
BEGIN:DAYLIGHT
TZOFFSETFROM:-0500
TZOFFSETTO:-0400
TZNAME:EDT
DTSTART:20260308T070000
END:DAYLIGHT
BEGIN:STANDARD
TZOFFSETFROM:-0400
TZOFFSETTO:-0500
TZNAME:EST
DTSTART:20261101T060000
END:STANDARD
END:VTIMEZONE
BEGIN:VEVENT
DTSTART;TZID=America/New_York:20250502T170000
DTEND;TZID=America/New_York:20250502T173000
DTSTAMP:20260419T220029
CREATED:20250319T172609Z
LAST-MODIFIED:20250319T172609Z
UID:25972-1746205200-1746207000@hbms.org
SUMMARY:Adult Theory Information Session
DESCRIPTION:Explore HBMS’s musicianship offerings in a series of informative sessions led by Dr. Derek Cooper and HBMS faculty on Zoom. Learn about courses in theory\, composition\, improvisation\, and more. Open to students and families interested in deepening their musical understanding. \nJoin via Zoom \nhttps://us06web.zoom.us/j/88342836040 \nMeeting ID: 883 4283 6040 \nUpcoming Session: \n\nThrough the Ages – May 3\, 5:15 pm
URL:https://hbms.org/event/adult-theory-information-session/
CATEGORIES:Adult Programs,Information Meeting,Musicianship Lab Classes,Open House
ATTACH;FMTTYPE=image/jpeg:https://hbms.org/wp-content/uploads/2024-Logo-600x600px-2.jpg
END:VEVENT
BEGIN:VEVENT
DTSTART;TZID=America/New_York:20250503T171500
DTEND;TZID=America/New_York:20250503T174500
DTSTAMP:20260419T220029
CREATED:20250319T172933Z
LAST-MODIFIED:20250319T172933Z
UID:25843-1746292500-1746294300@hbms.org
SUMMARY:Through the Ages: Music History Class Information Session
DESCRIPTION:Explore HBMS’s musicianship offerings in a series of informative sessions led by Dr. Derek Cooper and HBMS faculty on Zoom. Learn about courses in theory\, composition\, improvisation\, and more. Open to students and families interested in deepening their musical understanding. \nJoin via Zoom \nWith Donna Elaine and Derek Cooper \nhttps://us06web.zoom.us/j/87273478100 \nMeeting ID: 872 7347 8100
URL:https://hbms.org/event/through-the-ages-music-history-class-information-session/
CATEGORIES:Adult Programs,Information Meeting,Musicianship Lab Classes,Open House,Parent Meeting
ATTACH;FMTTYPE=image/jpeg:https://hbms.org/wp-content/uploads/2024-Logo-600x600px-2.jpg
END:VEVENT
END:VCALENDAR