BEGIN:VCALENDAR
VERSION:2.0
PRODID:-//Hoff-Barthelson Music School - ECPv6.15.20//NONSGML v1.0//EN
CALSCALE:GREGORIAN
METHOD:PUBLISH
X-WR-CALNAME:Hoff-Barthelson Music School
X-ORIGINAL-URL:https://hbms.org
X-WR-CALDESC:Events for Hoff-Barthelson Music School
REFRESH-INTERVAL;VALUE=DURATION:PT1H
X-Robots-Tag:noindex
X-PUBLISHED-TTL:PT1H
BEGIN:VTIMEZONE
TZID:America/New_York
BEGIN:DAYLIGHT
TZOFFSETFROM:-0500
TZOFFSETTO:-0400
TZNAME:EDT
DTSTART:20250309T070000
END:DAYLIGHT
BEGIN:STANDARD
TZOFFSETFROM:-0400
TZOFFSETTO:-0500
TZNAME:EST
DTSTART:20251102T060000
END:STANDARD
BEGIN:DAYLIGHT
TZOFFSETFROM:-0500
TZOFFSETTO:-0400
TZNAME:EDT
DTSTART:20260308T070000
END:DAYLIGHT
BEGIN:STANDARD
TZOFFSETFROM:-0400
TZOFFSETTO:-0500
TZNAME:EST
DTSTART:20261101T060000
END:STANDARD
BEGIN:DAYLIGHT
TZOFFSETFROM:-0500
TZOFFSETTO:-0400
TZNAME:EDT
DTSTART:20270314T070000
END:DAYLIGHT
BEGIN:STANDARD
TZOFFSETFROM:-0400
TZOFFSETTO:-0500
TZNAME:EST
DTSTART:20271107T060000
END:STANDARD
END:VTIMEZONE
BEGIN:VEVENT
DTSTART;TZID=America/New_York:20260322T130000
DTEND;TZID=America/New_York:20260322T153000
DTSTAMP:20260424T170724
CREATED:20251020T200607Z
LAST-MODIFIED:20260309T210048Z
UID:29514-1774184400-1774193400@hbms.org
SUMMARY:Piano Master Class with Victor Cayres
DESCRIPTION:Pianist Victor Cayres has earned praise for concerts with the Sine Nomine string quartet and as soloist with Boston Pops\, Orchestre des Jeunes de Fribourg in Switzerland\, and Brno Philharmonic in the Czech Republic. He has been a guest artist at Banff Center for the Arts in Canada\, Interlochen Center for the Arts\, Universidade de São Paulo\, University of Connecticut\, Claflin University\, Wesleyan University\, Western Washington University\, Moscow’s Tchaikovsky Conservatory and State University for Arts and Culture. \nHe has recorded for Albany\, Centaur\, Navona\, and Parma Records\, and frequently performs in Brazil\, Europe\, South Korea\, and in the United States\, including Weill Hall at Carnegie Hall\, Chicago’s Preston Bradley Hall\, Boston’s Symphony Hall and Jordan Hall. His concerts have been broadcast live at Brazil’s TV Cultura channel\, Boston’s WGBH 99.5 All Classical\, and Chicago’s WFMT Fine Arts Radio. Mr. Cayres currently serves as Lecturer at Boston University\, Co-Director for Boston University Tanglewood Institute Young Artists Piano Program\, and Faculty at New England Conservatory Preparatory School and Rivers School Conservatory. \nMaster Classes at Hoff-Barthelson are open to the public to observe free of charge.
URL:https://hbms.org/event/piano-master-class-with-victor-cayres/
LOCATION:Hoff-Barthelson Music School\, 25 School Lane\, Scarsdale\, 10583\, United States
CATEGORIES:Master Class,More Events
ATTACH;FMTTYPE=image/jpeg:https://hbms.org/wp-content/uploads/Victor-Cayres-600x600px.jpg
END:VEVENT
BEGIN:VEVENT
DTSTART;TZID=America/New_York:20260322T140000
DTEND;TZID=America/New_York:20260322T150000
DTSTAMP:20260424T170724
CREATED:20260306T171225Z
LAST-MODIFIED:20260306T200717Z
UID:30056-1774188000-1774191600@hbms.org
SUMMARY:Flutes of Spring
DESCRIPTION:A spring concert presented by the Hoff-Barthelson Music School Flute Club under the direction of Donna Elaine and the Adult Flute Choir under the direction of Joseph Piscitelli. \nPerforming works by Albinoni\, Fauré\, Elgar\, Purcell\, Sparke\, Chamberlain\, Boismortier\, Caliendo\, and others. \nAdmission is free of charge. \nView flyer here.
URL:https://hbms.org/event/flutes-of-spring/
LOCATION:Bronxville Public Library\, 201 Pondfield Road\, Bronxville\, NY\, 10708\, United States
CATEGORIES:Flute Clubs,Flute Plus,More Events,Student Performance
ATTACH;FMTTYPE=image/jpeg:https://hbms.org/wp-content/uploads/Flutes-600x600px.jpg
END:VEVENT
END:VCALENDAR