BEGIN:VCALENDAR
VERSION:2.0
PRODID:-//Hoff-Barthelson Music School - ECPv6.15.20//NONSGML v1.0//EN
CALSCALE:GREGORIAN
METHOD:PUBLISH
X-ORIGINAL-URL:https://hbms.org
X-WR-CALDESC:Events for Hoff-Barthelson Music School
REFRESH-INTERVAL;VALUE=DURATION:PT1H
X-Robots-Tag:noindex
X-PUBLISHED-TTL:PT1H
BEGIN:VTIMEZONE
TZID:America/New_York
BEGIN:DAYLIGHT
TZOFFSETFROM:-0500
TZOFFSETTO:-0400
TZNAME:EDT
DTSTART:20230312T070000
END:DAYLIGHT
BEGIN:STANDARD
TZOFFSETFROM:-0400
TZOFFSETTO:-0500
TZNAME:EST
DTSTART:20231105T060000
END:STANDARD
BEGIN:DAYLIGHT
TZOFFSETFROM:-0500
TZOFFSETTO:-0400
TZNAME:EDT
DTSTART:20240310T070000
END:DAYLIGHT
BEGIN:STANDARD
TZOFFSETFROM:-0400
TZOFFSETTO:-0500
TZNAME:EST
DTSTART:20241103T060000
END:STANDARD
BEGIN:DAYLIGHT
TZOFFSETFROM:-0500
TZOFFSETTO:-0400
TZNAME:EDT
DTSTART:20250309T070000
END:DAYLIGHT
BEGIN:STANDARD
TZOFFSETFROM:-0400
TZOFFSETTO:-0500
TZNAME:EST
DTSTART:20251102T060000
END:STANDARD
END:VTIMEZONE
BEGIN:VEVENT
DTSTART;TZID=America/New_York:20240907T130000
DTEND;TZID=America/New_York:20240907T160000
DTSTAMP:20260425T162649
CREATED:20240712T160908Z
LAST-MODIFIED:20240712T160908Z
UID:16941-1725714000-1725724800@hbms.org
SUMMARY:First Instruments and Private Lessons Open House
DESCRIPTION:RSVP here (RSVP required.) \nSpace is limited- early registration is encouraged! \nDiscover the world of music with us! Families and students of all ages are welcome to attend our Open House event. \nFrom 1:00 to 2:15 pm\, students in grades PreK-5 can explore our First Instruments program. These classes are designed to prepare children for private lessons in piano\, strings\, guitar\, winds\, brass\, and percussion. Meet our instructors\, participate in sample activities\, and get answers to your questions. \nFollowing that\, from 2:15 to 3:45 pm\, students in grades PreK-12 and adults interested in private lessons can sign up for 15-minute mini-lessons. This is a great opportunity to meet our Hoff-Barthelson faculty members and experience firsthand what private instruction is all about. \nDon’t miss out on this exciting chance to begin or enhance your musical journey with us!
URL:https://hbms.org/event/first-instruments-and-private-lessons-open-house-2/
CATEGORIES:Early Childhood Music Program,Featured Event (Homepage),First Instruments,Information Meeting,K-12 Programs,Open House,Parent Meeting
ATTACH;FMTTYPE=image/jpeg:https://hbms.org/wp-content/uploads/Flute-First-Instrument-600x600px.jpg
END:VEVENT
BEGIN:VEVENT
DTSTART;TZID=America/New_York:20240921T150000
DTEND;TZID=America/New_York:20240921T160000
DTSTAMP:20260425T162649
CREATED:20240801T191618Z
LAST-MODIFIED:20240801T191618Z
UID:18902-1726930800-1726934400@hbms.org
SUMMARY:Viola Ensemble Program Drop-in Day
DESCRIPTION:RSVP here. \nBring your viola and play along with our enrolled students or attend as an auditor to learn more about the ensembles. The days and times correspond to the weekly meeting schedule for the ensemble. \nViola Club Level 2 (grades 8-12)\nIntermediate and Advance\nSaturday\, September 21\, 2024\, 3:00 – 4:00 pm
URL:https://hbms.org/event/viola-ensemble-program-drop-in-day/
CATEGORIES:Featured Event (Homepage),Information Meeting,Open House,Viola Club
ATTACH;FMTTYPE=image/jpeg:https://hbms.org/wp-content/uploads/Viola-Club-600x600px.jpg
END:VEVENT
BEGIN:VEVENT
DTSTART;TZID=America/New_York:20240926T190000
DTEND;TZID=America/New_York:20240926T200000
DTSTAMP:20260425T162649
CREATED:20240729T202956Z
LAST-MODIFIED:20240729T202956Z
UID:18563-1727377200-1727380800@hbms.org
SUMMARY:Volunteer Kick-Off-Meeting
DESCRIPTION:We’re excited to invite you to our Volunteer Kick-Off Meeting — It’s time to prepare for another great year of events! \nHere’s what to expect: \n\nEvent Schedule Review: Get the scoop on upcoming events and volunteer opportunities.\nVolunteer Roles: Discover how you can contribute.\nNetworking: Enjoy coffee and treats while catching up with fellow volunteers.\n\nYour involvement plays a crucial role in the success of our programs and events\, and we look forward to another fantastic year with your support. \nPlease RSVP here. \nWe look forward to seeing you and kicking off an amazing year together! \nView the flyer here.
URL:https://hbms.org/event/volunteer-kick-off-meeting-2/
CATEGORIES:Featured Event (Homepage),Information Meeting,Parent Meeting,Volunteers
ATTACH;FMTTYPE=image/jpeg:https://hbms.org/wp-content/uploads/Volunteer-Conways-600x600px.jpg
END:VEVENT
BEGIN:VEVENT
DTSTART;TZID=America/New_York:20240927T181500
DTEND;TZID=America/New_York:20240927T191500
DTSTAMP:20260425T162649
CREATED:20240712T173828Z
LAST-MODIFIED:20240712T173828Z
UID:16959-1727460900-1727464500@hbms.org
SUMMARY:Honors Program Reception
DESCRIPTION:Students who have been accepted into the 2024-25 Honors Program\, along with their families\, are invited to come together for a social gathering. \nJoin us to meet the Honors Program leadership and enjoy light refreshments. We will also dedicate a portion of the event to orienting families about the plans for the upcoming year. \nPlease click here to RSVP.
URL:https://hbms.org/event/honors-program-reception/
CATEGORIES:Featured Event (Homepage),Honors Program,Information Meeting,Parent Meeting
ATTACH;FMTTYPE=image/jpeg:https://hbms.org/wp-content/uploads/2024-Logo-600x600px-2.jpg
END:VEVENT
BEGIN:VEVENT
DTSTART;TZID=America/New_York:20240928T160000
DTEND;TZID=America/New_York:20240928T170000
DTSTAMP:20260425T162649
CREATED:20240801T200541Z
LAST-MODIFIED:20240801T200541Z
UID:18937-1727539200-1727542800@hbms.org
SUMMARY:Vocal Performance Workshop Drop-in Day
DESCRIPTION:RSVP here. \nSing along with our enrolled students or attend as an auditor to learn more about the Workshop. The day and time correspond to the weekly meeting schedules for the workshop. For grades 6-12.
URL:https://hbms.org/event/vocal-performance-workshop-drop-in-day/
CATEGORIES:Choral Program,Featured Event (Homepage),Information Meeting,Open House,Parent Meeting,Vocal Ensemble,Vocal Performance
END:VEVENT
END:VCALENDAR