BEGIN:VCALENDAR
VERSION:2.0
PRODID:-//Hoff-Barthelson Music School - ECPv6.15.20//NONSGML v1.0//EN
CALSCALE:GREGORIAN
METHOD:PUBLISH
X-ORIGINAL-URL:https://hbms.org
X-WR-CALDESC:Events for Hoff-Barthelson Music School
REFRESH-INTERVAL;VALUE=DURATION:PT1H
X-Robots-Tag:noindex
X-PUBLISHED-TTL:PT1H
BEGIN:VTIMEZONE
TZID:America/New_York
BEGIN:DAYLIGHT
TZOFFSETFROM:-0500
TZOFFSETTO:-0400
TZNAME:EDT
DTSTART:20230312T070000
END:DAYLIGHT
BEGIN:STANDARD
TZOFFSETFROM:-0400
TZOFFSETTO:-0500
TZNAME:EST
DTSTART:20231105T060000
END:STANDARD
BEGIN:DAYLIGHT
TZOFFSETFROM:-0500
TZOFFSETTO:-0400
TZNAME:EDT
DTSTART:20240310T070000
END:DAYLIGHT
BEGIN:STANDARD
TZOFFSETFROM:-0400
TZOFFSETTO:-0500
TZNAME:EST
DTSTART:20241103T060000
END:STANDARD
BEGIN:DAYLIGHT
TZOFFSETFROM:-0500
TZOFFSETTO:-0400
TZNAME:EDT
DTSTART:20250309T070000
END:DAYLIGHT
BEGIN:STANDARD
TZOFFSETFROM:-0400
TZOFFSETTO:-0500
TZNAME:EST
DTSTART:20251102T060000
END:STANDARD
END:VTIMEZONE
BEGIN:VEVENT
DTSTART;TZID=America/New_York:20240907T130000
DTEND;TZID=America/New_York:20240907T160000
DTSTAMP:20260419T160952
CREATED:20240712T160908Z
LAST-MODIFIED:20240712T160908Z
UID:16941-1725714000-1725724800@hbms.org
SUMMARY:First Instruments and Private Lessons Open House
DESCRIPTION:RSVP here (RSVP required.) \nSpace is limited- early registration is encouraged! \nDiscover the world of music with us! Families and students of all ages are welcome to attend our Open House event. \nFrom 1:00 to 2:15 pm\, students in grades PreK-5 can explore our First Instruments program. These classes are designed to prepare children for private lessons in piano\, strings\, guitar\, winds\, brass\, and percussion. Meet our instructors\, participate in sample activities\, and get answers to your questions. \nFollowing that\, from 2:15 to 3:45 pm\, students in grades PreK-12 and adults interested in private lessons can sign up for 15-minute mini-lessons. This is a great opportunity to meet our Hoff-Barthelson faculty members and experience firsthand what private instruction is all about. \nDon’t miss out on this exciting chance to begin or enhance your musical journey with us!
URL:https://hbms.org/event/first-instruments-and-private-lessons-open-house-2/
CATEGORIES:Early Childhood Music Program,Featured Event (Homepage),First Instruments,Information Meeting,K-12 Programs,Open House,Parent Meeting
ATTACH;FMTTYPE=image/jpeg:https://hbms.org/wp-content/uploads/Flute-First-Instrument-600x600px.jpg
END:VEVENT
END:VCALENDAR