BEGIN:VCALENDAR
VERSION:2.0
PRODID:-//Hoff-Barthelson Music School - ECPv6.15.20//NONSGML v1.0//EN
CALSCALE:GREGORIAN
METHOD:PUBLISH
X-ORIGINAL-URL:https://hbms.org
X-WR-CALDESC:Events for Hoff-Barthelson Music School
REFRESH-INTERVAL;VALUE=DURATION:PT1H
X-Robots-Tag:noindex
X-PUBLISHED-TTL:PT1H
BEGIN:VTIMEZONE
TZID:America/New_York
BEGIN:DAYLIGHT
TZOFFSETFROM:-0500
TZOFFSETTO:-0400
TZNAME:EDT
DTSTART:20250309T070000
END:DAYLIGHT
BEGIN:STANDARD
TZOFFSETFROM:-0400
TZOFFSETTO:-0500
TZNAME:EST
DTSTART:20251102T060000
END:STANDARD
BEGIN:DAYLIGHT
TZOFFSETFROM:-0500
TZOFFSETTO:-0400
TZNAME:EDT
DTSTART:20260308T070000
END:DAYLIGHT
BEGIN:STANDARD
TZOFFSETFROM:-0400
TZOFFSETTO:-0500
TZNAME:EST
DTSTART:20261101T060000
END:STANDARD
BEGIN:DAYLIGHT
TZOFFSETFROM:-0500
TZOFFSETTO:-0400
TZNAME:EDT
DTSTART:20270314T070000
END:DAYLIGHT
BEGIN:STANDARD
TZOFFSETFROM:-0400
TZOFFSETTO:-0500
TZNAME:EST
DTSTART:20271107T060000
END:STANDARD
END:VTIMEZONE
BEGIN:VEVENT
DTSTART;TZID=America/New_York:20260327T190000
DTEND;TZID=America/New_York:20260327T200000
DTSTAMP:20260424T221743
CREATED:20260102T185024Z
LAST-MODIFIED:20260113T172925Z
UID:10541-1774638000-1774641600@hbms.org
SUMMARY:Family Concert
DESCRIPTION:Each year\, Hoff-Barthelson Music School invites families to share in the joy of making music together at our Annual Family Concert. Students are joined by siblings\, parents\, grandparents\, cousins\, and extended family members for an evening that celebrates music-making across generations. \nOne of our most cherished community traditions\, the Family Concert offers a relaxed and welcoming atmosphere filled with joyful performances and meaningful musical connections. \nTo reserve a place on the Family Concert program\, please speak with your teacher or your child’s teacher. The deadline to sign up is Saturday\, March 14\, 2025. For additional information\, contact April Johnson. \n 
URL:https://hbms.org/event/family-concert-3/
LOCATION:Hoff-Barthelson Music School\, 25 School Lane\, Scarsdale\, 10583\, United States
CATEGORIES:Family Concert,Featured Event (Homepage)
ATTACH;FMTTYPE=image/png:https://hbms.org/wp-content/uploads/Family-Concert-600x600px.png
END:VEVENT
END:VCALENDAR