BEGIN:VCALENDAR
VERSION:2.0
PRODID:-//Hoff-Barthelson Music School - ECPv6.15.20//NONSGML v1.0//EN
CALSCALE:GREGORIAN
METHOD:PUBLISH
X-WR-CALNAME:Hoff-Barthelson Music School
X-ORIGINAL-URL:https://hbms.org
X-WR-CALDESC:Events for Hoff-Barthelson Music School
REFRESH-INTERVAL;VALUE=DURATION:PT1H
X-Robots-Tag:noindex
X-PUBLISHED-TTL:PT1H
BEGIN:VTIMEZONE
TZID:America/New_York
BEGIN:DAYLIGHT
TZOFFSETFROM:-0500
TZOFFSETTO:-0400
TZNAME:EDT
DTSTART:20250309T070000
END:DAYLIGHT
BEGIN:STANDARD
TZOFFSETFROM:-0400
TZOFFSETTO:-0500
TZNAME:EST
DTSTART:20251102T060000
END:STANDARD
BEGIN:DAYLIGHT
TZOFFSETFROM:-0500
TZOFFSETTO:-0400
TZNAME:EDT
DTSTART:20260308T070000
END:DAYLIGHT
BEGIN:STANDARD
TZOFFSETFROM:-0400
TZOFFSETTO:-0500
TZNAME:EST
DTSTART:20261101T060000
END:STANDARD
BEGIN:DAYLIGHT
TZOFFSETFROM:-0500
TZOFFSETTO:-0400
TZNAME:EDT
DTSTART:20270314T070000
END:DAYLIGHT
BEGIN:STANDARD
TZOFFSETFROM:-0400
TZOFFSETTO:-0500
TZNAME:EST
DTSTART:20271107T060000
END:STANDARD
END:VTIMEZONE
BEGIN:VEVENT
DTSTART;TZID=America/New_York:20260503T110000
DTEND;TZID=America/New_York:20260503T150000
DTSTAMP:20260424T202545
CREATED:20251014T151636Z
LAST-MODIFIED:20251024T180206Z
UID:12468-1777806000-1777820400@hbms.org
SUMMARY:Suzuki String Program Spring Recitals
DESCRIPTION:Interested families are invited to attend today’s student recitals and see Hoff-Barthelson’s acclaimed Suzuki Program in action. \n\n11:00 am – Suzuki Strings Program Student Recital\n12:30 pm – Suzuki Strings Program Student Recital\n2:00 pm – Suzuki Strings Program Student Recital
URL:https://hbms.org/event/suzuki-program-spring-recitals/
LOCATION:Hoff-Barthelson Music School\, 25 School Lane\, Scarsdale\, 10583\, United States
CATEGORIES:Featured Event (Homepage),More Events,Student Performance,Suzuki Program,Suzuki Recital
ATTACH;FMTTYPE=image/jpeg:https://hbms.org/wp-content/uploads/Suzuki-HMF-2-2023-web-e1761328902733.jpg
END:VEVENT
BEGIN:VEVENT
DTSTART;TZID=America/New_York:20260503T153000
DTEND;TZID=America/New_York:20260503T163000
DTSTAMP:20260424T202545
CREATED:20251024T183726Z
LAST-MODIFIED:20251024T180414Z
UID:24779-1777822200-1777825800@hbms.org
SUMMARY:Suzuki Piano Program Spring Recital
DESCRIPTION:Interested families are invited to attend today’s recital and see Hoff-Barthelson’s acclaimed Suzuki Piano Program in action.
URL:https://hbms.org/event/suzuki-piano-program-spring-recital/
CATEGORIES:Early Childhood Music Program,Featured Event (Homepage),First Instruments,More Events,Piano Program,Suzuki Program,Suzuki Recital
ATTACH;FMTTYPE=image/jpeg:https://hbms.org/wp-content/uploads/Piano_Promo_3-scaled-e1761329778896.jpg
END:VEVENT
BEGIN:VEVENT
DTSTART;TZID=America/New_York:20260522T060000
DTEND;TZID=America/New_York:20260522T210000
DTSTAMP:20260424T202545
CREATED:20251214T145159Z
LAST-MODIFIED:20260202T152146Z
UID:8224-1779429600-1779483600@hbms.org
SUMMARY:Music in the Parks at Six Flags
DESCRIPTION:Members of the Young People’s Symphonette and Chamber Orchestra travel to Jackson Township in New Jersey to participate in the 2026 Music in the Parks Festival\, where they will receive a year-end assessment by an outside panel focused on reinforcing skills that students have developed through their participation in the orchestras. The performance will be followed by an afternoon of fun at Six Flags Great Adventure.
URL:https://hbms.org/event/music-showcase-festival-at-dorney-park/
CATEGORIES:Featured Event (Homepage),Student Performance,Youth Orchestras
ATTACH;FMTTYPE=image/jpeg:https://hbms.org/wp-content/uploads/Chamber-Orchestra-600x600px.jpg
END:VEVENT
BEGIN:VEVENT
DTSTART;TZID=America/New_York:20260529T160000
DTEND;TZID=America/New_York:20260529T173000
DTSTAMP:20260424T202545
CREATED:20260220T203826Z
LAST-MODIFIED:20260320T200821Z
UID:25273-1780070400-1780075800@hbms.org
SUMMARY:Guitar Program Recital and Porch Party
DESCRIPTION:Current and prospective Suzuki guitar students and their parents are invited to join us for a year-end Guitar Program Recital and Porch Party! Come learn more about our exciting plans for the 2025-27 school year\, meet faculty and other Suzuki families!
URL:https://hbms.org/event/suzuki-guitar-program-porch-party/
LOCATION:Hoff-Barthelson Music School\, 25 School Lane\, Scarsdale\, 10583\, United States
CATEGORIES:Featured Event (Homepage),First Instruments,Guitar Program,More Events,Parent Meeting,Student Performance,Suzuki Program,Suzuki Recital
ATTACH;FMTTYPE=image/png:https://hbms.org/wp-content/uploads/Suzuki-Guitar-600x600px.png
END:VEVENT
BEGIN:VEVENT
DTSTART;TZID=America/New_York:20260530T190000
DTEND;TZID=America/New_York:20260530T210000
DTSTAMP:20260424T202545
CREATED:20260220T211638Z
LAST-MODIFIED:20260327T165319Z
UID:25277-1780167600-1780174800@hbms.org
SUMMARY:Youth Orchestras Finale Concert
DESCRIPTION:Featuring the Young People’s Symphonette and Chamber Orchestra under the direction of Robert Schwartz and the Festival Orchestra under the direction of Leandro Gazineo. \nAlso featuring the winners of the First Annual Concerto Competition\nElliott Levine\, violin\, performing the Finale: Allegro energico from Max Bruch’s Violin Concerto\nMadeline Margulis-Ohnuma\, cello\, performing the Finale: Allegro moderato from Antonín Dvořák’s Cello Concerto \nGeneral Admission: $15; HBMS Students: Free of charge \n 
URL:https://hbms.org/event/youth-orchestras-finale-concert/
LOCATION:Iona University: Murphy Auditorium\, 715 North Avenue\, New Rochelle\, 10804\, United States
CATEGORIES:Chamber Orchestra,Elaine Stamas Chamber Music Residency,Featured Event (Homepage),Festival Orchestra,More Events,Musicianship Lab Classes,Student Performance,Symphonette,Youth Orchestras
ATTACH;FMTTYPE=image/jpeg:https://hbms.org/wp-content/uploads/Festival-Orchestra-3-600x600px.jpg
END:VEVENT
END:VCALENDAR